BEGIN:VCALENDAR
PRODID:-//Microsoft Corporation//Outlook 16.0 MIMEDIR//EN
VERSION:2.0
METHOD:PUBLISH
X-MS-OLK-FORCEINSPECTOROPEN:TRUE
BEGIN:VEVENT
CLASS:PUBLIC
CREATED:20250304T103648Z
DESCRIPTION:This is a calendar invite for the COMET User Group Meeting – 
	EMEA.\n\nPlace: Lausanne\, Switzerland\nDates: 22-23 May\, 2025\n\nEvent a
	genda: https://lunaphore.com/our-events/comet-ugm-eu-2025/ \nFor informati
	on and support please reach out to your Lunaphore contact or email events@
	lunaphore.com <mailto:events@lunaphore.com> .\n\n
DTEND;VALUE=DATE:20250524
DTSTAMP:20250304T103648Z
DTSTART;VALUE=DATE:20250522
LAST-MODIFIED:20250304T103648Z
LOCATION:Lausanne\, Switzerland
PRIORITY:5
SEQUENCE:0
SUMMARY;LANGUAGE=en-gb:COMET User Group Meeting - EMEA
TRANSP:OPAQUE
UID:040000008200E00074C5B7101A82E00800000000E77CCD2BF08CDB01000000000000000
	010000000E2DCF67C8C107E46869B8FFC2BBC0A02
X-ALT-DESC;FMTTYPE=text/html:<html xmlns:o="urn:schemas-microsoft-com:offic
	e:office" xmlns:w="urn:schemas-microsoft-com:office:word" xmlns:m="http://
	schemas.microsoft.com/office/2004/12/omml" xmlns="http://www.w3.org/TR/REC
	-html40">\n<head>\n\n<meta name="Generator" content="Microsoft Word 15 (fi
	ltered medium)">\n<style><!--\n/* Font Definitions */\n@font-face\n	{font-
	family:"Cambria Math"\;\n	panose-1:2 4 5 3 5 4 6 3 2 4\;}\n@font-face\n	{f
	ont-family:Calibri\;\n	panose-1:2 15 5 2 2 2 4 3 2 4\;}\n@font-face\n	{fon
	t-family:Aptos\;\n	panose-1:2 11 0 4 2 2 2 2 2 4\;}\n/* Style Definitions 
	*/\np.MsoNormal\, li.MsoNormal\, div.MsoNormal\n	{margin:0cm\;\n	font-size
	:11.0pt\;\n	font-family:"Aptos"\,sans-serif\;\n	mso-ligatures:standardcont
	extual\;\n	mso-fareast-language:EN-US\;}\na:link\, span.MsoHyperlink\n	{ms
	o-style-priority:99\;\n	color:#467886\;\n	text-decoration:underline\;}\nsp
	an.EmailStyle18\n	{mso-style-type:personal-compose\;\n	font-family:"Aptos"
	\,sans-serif\;\n	color:windowtext\;}\n.MsoChpDefault\n	{mso-style-type:exp
	ort-only\;\n	font-size:10.0pt\;\n	mso-ligatures:none\;}\n@page WordSection
	1\n	{size:612.0pt 792.0pt\;\n	margin:72.0pt 72.0pt 72.0pt 72.0pt\;}\ndiv.W
	ordSection1\n	{page:WordSection1\;}\n--></style>\n</head>\n<body lang="en-
	CH" link="#467886" vlink="#96607D" style="word-wrap:break-word">\n<div cla
	ss="WordSection1">\n<p class="MsoNormal">This is a calendar invite for the
	 <b>COMET User Group Meeting – EMEA</b>.<br>\n<br>\n<b>Place:</b> Lausan
	ne\, Switzerland<br>\n<b>Dates:</b> 22-23 May<span lang="EN-US">\, </span>
	2025<br>\n<br>\nEvent agenda: <a href="https://lunaphore.com/our-events/co
	met-ugm-eu-2025/">https://lunaphore.com/our-events/comet-ugm-eu-2025/</a>\
	n<br>\nFor information and support please reach out to your Lunaphore cont
	act or <span lang="EN-US">\nemail</span><span lang="EN-US"> </span><a href
	="mailto:events@lunaphore.com">events@lunaphore.com</a>.<o:p></o:p></p>\n<
	/div>\n</body>\n</html>\n
X-MICROSOFT-CDO-BUSYSTATUS:BUSY
X-MICROSOFT-CDO-IMPORTANCE:1
X-MICROSOFT-DISALLOW-COUNTER:FALSE
BEGIN:VALARM
TRIGGER:-PT9540M
ACTION:DISPLAY
DESCRIPTION:Reminder
END:VALARM
END:VEVENT
END:VCALENDAR
